BEGIN:VCALENDAR
VERSION:2.0
PRODID:-//wp-events-plugin.com//7.2.3.1//EN
TZID:America/Chicago
X-WR-TIMEZONE:America/Chicago
BEGIN:VEVENT
UID:7@bridgeshealthwinona.org
DTSTART;TZID=America/Chicago:20241102T100000
DTEND;TZID=America/Chicago:20241102T120000
DTSTAMP:20241024T202953Z
URL:https://bridgeshealthwinona.org/events/lifegate-services-food-pantry-2
 /
SUMMARY:LifeGate Services Food Pantry
DESCRIPTION:
ATTACH;FMTTYPE=image/jpeg:https://bridgeshealthwinona.org/wp-content/uploa
 ds/2024/08/megan-thomas-xMh_ww8HN_Q-unsplash.jpg
LOCATION:LifeGate Services\, 1300 10th Ave NE\, Rochester\, MN\, 55904\, Un
 ited States
X-APPLE-STRUCTURED-LOCATION;VALUE=URI;X-ADDRESS=1300 10th Ave NE\, Rocheste
 r\, MN\, 55904\, United States;X-APPLE-RADIUS=100;X-TITLE=LifeGate Service
 s:geo:0,0
END:VEVENT
BEGIN:VTIMEZONE
TZID:America/Chicago
X-LIC-LOCATION:America/Chicago
BEGIN:DAYLIGHT
DTSTART:20240310T030000
TZOFFSETFROM:-0600
TZOFFSETTO:-0500
TZNAME:CDT
END:DAYLIGHT
END:VTIMEZONE
END:VCALENDAR